BEGIN:VCALENDAR
VERSION:2.0
PRODID:-//ADAT SHALOM SYNAGOGUE - ECPv6.15.20//NONSGML v1.0//EN
CALSCALE:GREGORIAN
METHOD:PUBLISH
X-WR-CALNAME:ADAT SHALOM SYNAGOGUE
X-ORIGINAL-URL:https://adatshalompgh.org
X-WR-CALDESC:Events for ADAT SHALOM SYNAGOGUE
REFRESH-INTERVAL;VALUE=DURATION:PT1H
X-Robots-Tag:noindex
X-PUBLISHED-TTL:PT1H
BEGIN:VTIMEZONE
TZID:UTC
BEGIN:STANDARD
TZOFFSETFROM:+0000
TZOFFSETTO:+0000
TZNAME:UTC
DTSTART:20250101T000000
END:STANDARD
END:VTIMEZONE
BEGIN:VEVENT
DTSTART;TZID=UTC:20260425T100000
DTEND;TZID=UTC:20260425T120000
DTSTAMP:20260421T113548
CREATED:20260205T211922Z
LAST-MODIFIED:20260219T203154Z
UID:10002498-1777111200-1777118400@adatshalompgh.org
SUMMARY:Saturday Morning Services
DESCRIPTION:
URL:https://adatshalompgh.org/event/saturday-morning-services/2026-04-25/
END:VEVENT
BEGIN:VEVENT
DTSTART;TZID=UTC:20260502T100000
DTEND;TZID=UTC:20260502T120000
DTSTAMP:20260421T113548
CREATED:20260205T211922Z
LAST-MODIFIED:20260219T203154Z
UID:10002499-1777716000-1777723200@adatshalompgh.org
SUMMARY:Saturday Morning Services
DESCRIPTION:
URL:https://adatshalompgh.org/event/saturday-morning-services/2026-05-02/
END:VEVENT
BEGIN:VEVENT
DTSTART;TZID=UTC:20260509T100000
DTEND;TZID=UTC:20260509T120000
DTSTAMP:20260421T113548
CREATED:20260205T211922Z
LAST-MODIFIED:20260219T203154Z
UID:10002500-1778320800-1778328000@adatshalompgh.org
SUMMARY:Saturday Morning Services
DESCRIPTION:
URL:https://adatshalompgh.org/event/saturday-morning-services/2026-05-09/
END:VEVENT
BEGIN:VEVENT
DTSTART;TZID=UTC:20260523T100000
DTEND;TZID=UTC:20260523T120000
DTSTAMP:20260421T113548
CREATED:20260205T211922Z
LAST-MODIFIED:20260219T203154Z
UID:10002502-1779530400-1779537600@adatshalompgh.org
SUMMARY:Saturday Morning Services
DESCRIPTION:
URL:https://adatshalompgh.org/event/saturday-morning-services/2026-05-23/
END:VEVENT
BEGIN:VEVENT
DTSTART;TZID=UTC:20260530T100000
DTEND;TZID=UTC:20260530T120000
DTSTAMP:20260421T113548
CREATED:20260205T211922Z
LAST-MODIFIED:20260219T203154Z
UID:10002503-1780135200-1780142400@adatshalompgh.org
SUMMARY:Saturday Morning Services
DESCRIPTION:
URL:https://adatshalompgh.org/event/saturday-morning-services/2026-05-30/
END:VEVENT
BEGIN:VEVENT
DTSTART;TZID=UTC:20260606T100000
DTEND;TZID=UTC:20260606T120000
DTSTAMP:20260421T113548
CREATED:20260205T211922Z
LAST-MODIFIED:20260219T203154Z
UID:10002504-1780740000-1780747200@adatshalompgh.org
SUMMARY:Saturday Morning Services
DESCRIPTION:
URL:https://adatshalompgh.org/event/saturday-morning-services/2026-06-06/
END:VEVENT
BEGIN:VEVENT
DTSTART;TZID=UTC:20260613T100000
DTEND;TZID=UTC:20260613T120000
DTSTAMP:20260421T113548
CREATED:20260416T185457Z
LAST-MODIFIED:20260416T185500Z
UID:10002505-1781344800-1781352000@adatshalompgh.org
SUMMARY:Saturday Morning Services featuring the Bat Mitzvah of Leia Mahler
DESCRIPTION:
URL:https://adatshalompgh.org/event/saturday-morning-services-2/
END:VEVENT
BEGIN:VEVENT
DTSTART;TZID=UTC:20260620T100000
DTEND;TZID=UTC:20260620T120000
DTSTAMP:20260421T113548
CREATED:20260205T211922Z
LAST-MODIFIED:20260219T203154Z
UID:10002506-1781949600-1781956800@adatshalompgh.org
SUMMARY:Saturday Morning Services
DESCRIPTION:
URL:https://adatshalompgh.org/event/saturday-morning-services/2026-06-20/
END:VEVENT
BEGIN:VEVENT
DTSTART;TZID=UTC:20260627T100000
DTEND;TZID=UTC:20260627T120000
DTSTAMP:20260421T113548
CREATED:20260205T211922Z
LAST-MODIFIED:20260219T203154Z
UID:10002507-1782554400-1782561600@adatshalompgh.org
SUMMARY:Saturday Morning Services
DESCRIPTION:
URL:https://adatshalompgh.org/event/saturday-morning-services/2026-06-27/
END:VEVENT
BEGIN:VEVENT
DTSTART;TZID=UTC:20260704T100000
DTEND;TZID=UTC:20260704T120000
DTSTAMP:20260421T113548
CREATED:20260205T211922Z
LAST-MODIFIED:20260219T203154Z
UID:10002508-1783159200-1783166400@adatshalompgh.org
SUMMARY:Saturday Morning Services
DESCRIPTION:
URL:https://adatshalompgh.org/event/saturday-morning-services/2026-07-04/
END:VEVENT
BEGIN:VEVENT
DTSTART;TZID=UTC:20260711T100000
DTEND;TZID=UTC:20260711T120000
DTSTAMP:20260421T113548
CREATED:20260205T211922Z
LAST-MODIFIED:20260219T203154Z
UID:10002509-1783764000-1783771200@adatshalompgh.org
SUMMARY:Saturday Morning Services
DESCRIPTION:
URL:https://adatshalompgh.org/event/saturday-morning-services/2026-07-11/
END:VEVENT
BEGIN:VEVENT
DTSTART;TZID=UTC:20260718T100000
DTEND;TZID=UTC:20260718T120000
DTSTAMP:20260421T113548
CREATED:20260205T211922Z
LAST-MODIFIED:20260219T203154Z
UID:10002510-1784368800-1784376000@adatshalompgh.org
SUMMARY:Saturday Morning Services
DESCRIPTION:
URL:https://adatshalompgh.org/event/saturday-morning-services/2026-07-18/
END:VEVENT
BEGIN:VEVENT
DTSTART;TZID=UTC:20260725T100000
DTEND;TZID=UTC:20260725T120000
DTSTAMP:20260421T113548
CREATED:20260205T211922Z
LAST-MODIFIED:20260219T203154Z
UID:10002511-1784973600-1784980800@adatshalompgh.org
SUMMARY:Saturday Morning Services
DESCRIPTION:
URL:https://adatshalompgh.org/event/saturday-morning-services/2026-07-25/
END:VEVENT
BEGIN:VEVENT
DTSTART;TZID=UTC:20260801T100000
DTEND;TZID=UTC:20260801T120000
DTSTAMP:20260421T113548
CREATED:20260205T211922Z
LAST-MODIFIED:20260219T203154Z
UID:10002512-1785578400-1785585600@adatshalompgh.org
SUMMARY:Saturday Morning Services
DESCRIPTION:
URL:https://adatshalompgh.org/event/saturday-morning-services/2026-08-01/
END:VEVENT
BEGIN:VEVENT
DTSTART;TZID=UTC:20260808T100000
DTEND;TZID=UTC:20260808T120000
DTSTAMP:20260421T113548
CREATED:20260205T211922Z
LAST-MODIFIED:20260219T203154Z
UID:10002513-1786183200-1786190400@adatshalompgh.org
SUMMARY:Saturday Morning Services
DESCRIPTION:
URL:https://adatshalompgh.org/event/saturday-morning-services/2026-08-08/
END:VEVENT
BEGIN:VEVENT
DTSTART;TZID=UTC:20260815T100000
DTEND;TZID=UTC:20260815T120000
DTSTAMP:20260421T113548
CREATED:20260205T211922Z
LAST-MODIFIED:20260219T203154Z
UID:10002514-1786788000-1786795200@adatshalompgh.org
SUMMARY:Saturday Morning Services
DESCRIPTION:
URL:https://adatshalompgh.org/event/saturday-morning-services/2026-08-15/
END:VEVENT
BEGIN:VEVENT
DTSTART;TZID=UTC:20260822T100000
DTEND;TZID=UTC:20260822T120000
DTSTAMP:20260421T113548
CREATED:20260205T211922Z
LAST-MODIFIED:20260219T203154Z
UID:10002515-1787392800-1787400000@adatshalompgh.org
SUMMARY:Saturday Morning Services
DESCRIPTION:
URL:https://adatshalompgh.org/event/saturday-morning-services/2026-08-22/
END:VEVENT
BEGIN:VEVENT
DTSTART;TZID=UTC:20260829T100000
DTEND;TZID=UTC:20260829T120000
DTSTAMP:20260421T113548
CREATED:20260205T211922Z
LAST-MODIFIED:20260219T203154Z
UID:10002516-1787997600-1788004800@adatshalompgh.org
SUMMARY:Saturday Morning Services
DESCRIPTION:
URL:https://adatshalompgh.org/event/saturday-morning-services/2026-08-29/
END:VEVENT
BEGIN:VEVENT
DTSTART;TZID=UTC:20260905T100000
DTEND;TZID=UTC:20260905T120000
DTSTAMP:20260421T113548
CREATED:20260205T211922Z
LAST-MODIFIED:20260219T203154Z
UID:10002517-1788602400-1788609600@adatshalompgh.org
SUMMARY:Saturday Morning Services
DESCRIPTION:
URL:https://adatshalompgh.org/event/saturday-morning-services/2026-09-05/
END:VEVENT
BEGIN:VEVENT
DTSTART;TZID=UTC:20260912T100000
DTEND;TZID=UTC:20260912T120000
DTSTAMP:20260421T113548
CREATED:20260205T211922Z
LAST-MODIFIED:20260219T203154Z
UID:10002518-1789207200-1789214400@adatshalompgh.org
SUMMARY:Saturday Morning Services
DESCRIPTION:
URL:https://adatshalompgh.org/event/saturday-morning-services/2026-09-12/
END:VEVENT
BEGIN:VEVENT
DTSTART;TZID=UTC:20260919T100000
DTEND;TZID=UTC:20260919T120000
DTSTAMP:20260421T113548
CREATED:20260205T211922Z
LAST-MODIFIED:20260219T203154Z
UID:10002519-1789812000-1789819200@adatshalompgh.org
SUMMARY:Saturday Morning Services
DESCRIPTION:
URL:https://adatshalompgh.org/event/saturday-morning-services/2026-09-19/
END:VEVENT
BEGIN:VEVENT
DTSTART;TZID=UTC:20260926T100000
DTEND;TZID=UTC:20260926T120000
DTSTAMP:20260421T113548
CREATED:20260205T211922Z
LAST-MODIFIED:20260219T203154Z
UID:10002520-1790416800-1790424000@adatshalompgh.org
SUMMARY:Saturday Morning Services
DESCRIPTION:
URL:https://adatshalompgh.org/event/saturday-morning-services/2026-09-26/
END:VEVENT
BEGIN:VEVENT
DTSTART;TZID=UTC:20261003T100000
DTEND;TZID=UTC:20261003T120000
DTSTAMP:20260421T113548
CREATED:20260205T211922Z
LAST-MODIFIED:20260219T203154Z
UID:10002521-1791021600-1791028800@adatshalompgh.org
SUMMARY:Saturday Morning Services
DESCRIPTION:
URL:https://adatshalompgh.org/event/saturday-morning-services/2026-10-03/
END:VEVENT
BEGIN:VEVENT
DTSTART;TZID=UTC:20261010T100000
DTEND;TZID=UTC:20261010T120000
DTSTAMP:20260421T113548
CREATED:20260205T211922Z
LAST-MODIFIED:20260219T203154Z
UID:10002522-1791626400-1791633600@adatshalompgh.org
SUMMARY:Saturday Morning Services
DESCRIPTION:
URL:https://adatshalompgh.org/event/saturday-morning-services/2026-10-10/
END:VEVENT
BEGIN:VEVENT
DTSTART;TZID=UTC:20261017T100000
DTEND;TZID=UTC:20261017T120000
DTSTAMP:20260421T113548
CREATED:20260205T211922Z
LAST-MODIFIED:20260219T203154Z
UID:10002523-1792231200-1792238400@adatshalompgh.org
SUMMARY:Saturday Morning Services
DESCRIPTION:
URL:https://adatshalompgh.org/event/saturday-morning-services/2026-10-17/
END:VEVENT
BEGIN:VEVENT
DTSTART;TZID=UTC:20261024T100000
DTEND;TZID=UTC:20261024T120000
DTSTAMP:20260421T113548
CREATED:20260205T211922Z
LAST-MODIFIED:20260219T203154Z
UID:10002524-1792836000-1792843200@adatshalompgh.org
SUMMARY:Saturday Morning Services
DESCRIPTION:
URL:https://adatshalompgh.org/event/saturday-morning-services/2026-10-24/
END:VEVENT
BEGIN:VEVENT
DTSTART;TZID=UTC:20261031T100000
DTEND;TZID=UTC:20261031T120000
DTSTAMP:20260421T113548
CREATED:20260205T211922Z
LAST-MODIFIED:20260219T203154Z
UID:10002525-1793440800-1793448000@adatshalompgh.org
SUMMARY:Saturday Morning Services
DESCRIPTION:
URL:https://adatshalompgh.org/event/saturday-morning-services/2026-10-31/
END:VEVENT
BEGIN:VEVENT
DTSTART;TZID=UTC:20261107T100000
DTEND;TZID=UTC:20261107T120000
DTSTAMP:20260421T113548
CREATED:20260205T211922Z
LAST-MODIFIED:20260219T203154Z
UID:10002526-1794045600-1794052800@adatshalompgh.org
SUMMARY:Saturday Morning Services
DESCRIPTION:
URL:https://adatshalompgh.org/event/saturday-morning-services/2026-11-07/
END:VEVENT
BEGIN:VEVENT
DTSTART;TZID=UTC:20261114T100000
DTEND;TZID=UTC:20261114T120000
DTSTAMP:20260421T113548
CREATED:20260205T211922Z
LAST-MODIFIED:20260219T203154Z
UID:10002527-1794650400-1794657600@adatshalompgh.org
SUMMARY:Saturday Morning Services
DESCRIPTION:
URL:https://adatshalompgh.org/event/saturday-morning-services/2026-11-14/
END:VEVENT
BEGIN:VEVENT
DTSTART;TZID=UTC:20261121T100000
DTEND;TZID=UTC:20261121T120000
DTSTAMP:20260421T113548
CREATED:20260205T211922Z
LAST-MODIFIED:20260219T203154Z
UID:10002528-1795255200-1795262400@adatshalompgh.org
SUMMARY:Saturday Morning Services
DESCRIPTION:
URL:https://adatshalompgh.org/event/saturday-morning-services/2026-11-21/
END:VEVENT
END:VCALENDAR